Workbook
Name b0: LacticAcid!$H$20
Name b1_: LacticAcid!$H$19
Name L.BootObs: _xlfn.LAMBDA(_xlpm.sample, IF( OR(COLUMNS(_xlpm.sample) = 1, ROWS(_xlpm.sample) = 1), _xlfn.TOCOL(_xlpm.sample, 1), _xlpm.sample ) )
Name L.BootSE: _xlfn.LAMBDA(_xlpm.sample,_xlpm.fn,_xlop.B,_xlop.bw, _xlfn.STDEV.S(L.Bootstrap(_xlpm.sample, _xlpm.fn, IF(_xlfn.ISOMITTED(_xlpm.B), 1000, _xlpm.B), IF(_xlfn.ISOMITTED(_xlpm.bw), 0, _xlpm.bw))) )
Name L.DF_Welch: _xlfn.LAMBDA(_xlpm.se_1,_xlpm.df_1,_xlpm.se_2,_xlpm.df_2, _xlfn.LET(_xlpm.sd_sqrd, _xlpm.se_1 ^ 2 + _xlpm.se_2 ^ 2, _xlpm.sd_sqrd ^ 2 / (_xlpm.se_1 ^ 4 / _xlpm.df_1 + _xlpm.se_2 ^ 4 / _xlpm.df_2)))
Name L.ECDF: _xlfn.LAMBDA(_xlpm.X, (COUNTIF(_xlpm.X, "<" & _xlpm.X) + COUNTIF(_xlpm.X, "<=" & _xlpm.X)) / (2 * COUNT(_xlpm.X)) )
Name L.Eye: _xlfn.LAMBDA(_xlpm.n, _xlfn.MAKEARRAY(_xlpm.n, _xlpm.n, _xlfn.LAMBDA(_xlpm.numrows,_xlpm.numcols, IF(_xlpm.numrows = _xlpm.numcols, 1, 0))))
Name L.Fkmin: _xlfn.LAMBDA(_xlpm.skew, -1.13168 + 1.58837*_xlpm.skew^2 )
Name L.GetSeed: _xlfn.LAMBDA( RANDBETWEEN(1,2^31 - 1) )
Name L.QQnorm: _xlfn.LAMBDA(_xlpm.Y, _xlfn.LET( _xlpm.ECDF, (COUNTIF(_xlpm.Y, "<" & _xlpm.Y) + COUNTIF(_xlpm.Y, "<=" & _xlpm.Y)) / (2 * COUNT(_xlpm.Y)), _xlfn.NORM.S.INV(_xlpm.ECDF) ) )
Name L.Range: _xlfn.LAMBDA(_xlpm.start,_xlpm.stop,_xlpm.length, _xlfn.SEQUENCE(_xlpm.length, 1, _xlpm.start, (_xlpm.stop - _xlpm.start) / (_xlpm.length - 1)))
Name X: tblLacticAcid[Actual]
Name Y: tblLacticAcid[Response]

Sheet LacticAcid
A1: Actual | B1: Response | C1: yhat | D1: e
A2: 1 | B2: 0.11 | C2: =b1_*LacticAcid!$A2+b0 -> 0.13871722 | D2: =LacticAcid!$B2-LacticAcid!$C2 -> -0.028717218
A3: 1 | B3: 0.07 | C3: =b1_*LacticAcid!$A3+b0 -> 0.13871722 | D3: =LacticAcid!$B3-LacticAcid!$C3 -> -0.068717218
A4: 1 | B4: 0.18 | C4: =b1_*LacticAcid!$A4+b0 -> 0.13871722 | D4: =LacticAcid!$B4-LacticAcid!$C4 -> 0.041282782
A5: 1 | B5: 0.04 | C5: =b1_*LacticAcid!$A5+b0 -> 0.13871722 | D5: =LacticAcid!$B5-LacticAcid!$C5 -> -0.098717218
A6: 3 | B6: 0.3 | C6: =b1_*LacticAcid!$A6+b0 -> 0.38425504 | D6: =LacticAcid!$B6-LacticAcid!$C6 -> -0.084255036
A7: 3 | B7: 0.14 | C7: =b1_*LacticAcid!$A7+b0 -> 0.38425504 | D7: =LacticAcid!$B7-LacticAcid!$C7 -> -0.24425504
A8: 3 | B8: 0.49 | C8: =b1_*LacticAcid!$A8+b0 -> 0.38425504 | D8: =LacticAcid!$B8-LacticAcid!$C8 -> 0.10574496
A9: 3 | B9: 0.44 | C9: =b1_*LacticAcid!$A9+b0 -> 0.38425504 | D9: =LacticAcid!$B9-LacticAcid!$C9 -> 0.055744964
A10: 3 | B10: 0.45 | C10: =b1_*LacticAcid!$A10+b0 -> 0.38425504 | D10: =LacticAcid!$B10-LacticAcid!$C10 -> 0.065744964
A11: 5 | B11: 0.73 | C11: =b1_*LacticAcid!$A11+b0 -> 0.62979285 | D11: =LacticAcid!$B11-LacticAcid!$C11 -> 0.10020715
A12: 5 | B12: 0.82 | C12: =b1_*LacticAcid!$A12+b0 -> 0.62979285 | D12: =LacticAcid!$B12-LacticAcid!$C12 -> 0.19020715
A13: 5 | B13: 0.62 | C13: =b1_*LacticAcid!$A13+b0 -> 0.62979285 | D13: =LacticAcid!$B13-LacticAcid!$C13 -> -0.0097928544
... A18: 15 | B18: 1.87 | C18: =b1_*LacticAcid!$A18+b0 -> 1.8574819 | D18: =LacticAcid!$B18-LacticAcid!$C18 -> 0.012518054
A19: 15 | B19: 1.97 | C19: =b1_*LacticAcid!$A19+b0 -> 1.8574819 | D19: =LacticAcid!$B19-LacticAcid!$C19 -> 0.11251805 | G19: b1 | H19: =SLOPE(LacticAcid!$B$2:$B$21,LacticAcid!$A$2:$A$21) -> 0.12276891 | I19: <-- slope
A20: 15 | B20: 1.74 | C20: =b1_*LacticAcid!$A20+b0 -> 1.8574819 | D20: =LacticAcid!$B20-LacticAcid!$C20 -> -0.11748195 | G20: b0 | H20: =INTERCEPT(LacticAcid!$B$2:$B$21,LacticAcid!$A$2:$A$21) -> 0.015948309 | I20: <-- intercept
A21: 15 | B21: 1.71 | C21: =b1_*LacticAcid!$A21+b0 -> 1.8574819 | D21: =LacticAcid!$B21-LacticAcid!$C21 -> -0.14748195
G32: SUMMARY OUTPUT
G34: Regression Statistics
G35: Multiple R | H35: 0.98705074
G36: R Square | H36: 0.97426917
G37: Adjusted R Square | H37: 0.97283967
G38: Standard Error | H38: 0.10787356
G39: Observations | H39: 20
G41: ANOVA
H42: df | I42: SS | J42: MS | K42: F | L42: Significance F
G43: Regression | H43: 1 | I43: 7.9309943 | J43: 7.9309943 | K43: 681.5498 | L43: 9.2778759e-16
G44: Residual | H44: 18 | I44: 0.2094607 | J44: 0.011636706
G45: Total | H45: 19 | I45: 8.140455
H47: Coefficients | I47: Standard Error | J47: t Stat | K47: P-value | L47: Lower 95% | M47: Upper 95% | N47: Lower 95.0% | O47: Upper 95.0%
G48: Intercept | H48: 0.015948309 | I48: 0.039680725 | J48: 0.40191576 | K48: 0.6924782 | L48: -0.067417801 | M48: 0.099314418 | N48: -0.067417801 | O48: 0.099314418
G49: X Variable 1 | H49: 0.12276891 | I49: 0.0047026169 | J49: 26.106509 | K49: 9.2778759e-16 | L49: 0.11288908 | M49: 0.13264874 | N49: 0.11288908 | O49: 0.13264874
